BEGIN:VCALENDAR
VERSION:2.0
PRODID:-//Yankee Chapter of NAVHDA - ECPv6.15.17.1//NONSGML v1.0//EN
CALSCALE:GREGORIAN
METHOD:PUBLISH
X-WR-CALNAME:Yankee Chapter of NAVHDA
X-ORIGINAL-URL:https://www.yankeenavhda.org
X-WR-CALDESC:Events for Yankee Chapter of NAVHDA
REFRESH-INTERVAL;VALUE=DURATION:PT1H
X-Robots-Tag:noindex
X-PUBLISHED-TTL:PT1H
BEGIN:VTIMEZONE
TZID:America/New_York
BEGIN:DAYLIGHT
TZOFFSETFROM:-0500
TZOFFSETTO:-0400
TZNAME:EDT
DTSTART:20200308T070000
END:DAYLIGHT
BEGIN:STANDARD
TZOFFSETFROM:-0400
TZOFFSETTO:-0500
TZNAME:EST
DTSTART:20201101T060000
END:STANDARD
BEGIN:DAYLIGHT
TZOFFSETFROM:-0500
TZOFFSETTO:-0400
TZNAME:EDT
DTSTART:20210314T070000
END:DAYLIGHT
BEGIN:STANDARD
TZOFFSETFROM:-0400
TZOFFSETTO:-0500
TZNAME:EST
DTSTART:20211107T060000
END:STANDARD
BEGIN:DAYLIGHT
TZOFFSETFROM:-0500
TZOFFSETTO:-0400
TZNAME:EDT
DTSTART:20220313T070000
END:DAYLIGHT
BEGIN:STANDARD
TZOFFSETFROM:-0400
TZOFFSETTO:-0500
TZNAME:EST
DTSTART:20221106T060000
END:STANDARD
END:VTIMEZONE
BEGIN:VEVENT
DTSTART;TZID=America/New_York:20210216T000000
DTEND;TZID=America/New_York:20210216T235900
DTSTAMP:20260425T070646
CREATED:20210119T150400Z
LAST-MODIFIED:20210119T150753Z
UID:1334-1613433600-1613519940@www.yankeenavhda.org
SUMMARY:2021 YC Test Entry Open for Submission
DESCRIPTION:Do not send early.\nEntry’s must be post marked February 16th or later(No Earlier!). See testing page for forms links and details prior to sending in your entry.
URL:https://www.yankeenavhda.org/event/2021-yc-test-entry-open-for-submission/
LOCATION:ME
END:VEVENT
BEGIN:VEVENT
DTSTART;TZID=America/New_York:20210220T090000
DTEND;TZID=America/New_York:20210220T130000
DTSTAMP:20260425T070646
CREATED:20210216T185141Z
LAST-MODIFIED:20210216T185141Z
UID:1363-1613811600-1613826000@www.yankeenavhda.org
SUMMARY:2021 Wood Duck Nesting Box Project
DESCRIPTION:Come join the Yankee Chapter of NAVHDA and Ducks Unlimited for some outdoor family fun on Saturday\, February 20th. We will be volunteering our time to help the Department of Inland Fisheries and Wildlife perform general maintenance and record the information for the state’s biologists on wood duck boxes. We are hoping to get as many kids as possible to join in the fun. All are welcome\, from “pampers to grampers”\, kids or no kids\, members and non-members! All are welcome. We will meet at the Exit 43 Quickstop Market at 9:00am.
URL:https://www.yankeenavhda.org/event/2021-wood-duck-nesting-box-project/
LOCATION:ME
END:VEVENT
END:VCALENDAR