BEGIN:VCALENDAR
VERSION:2.0
PRODID:-//Yankee Chapter of NAVHDA - ECPv6.15.17.1//NONSGML v1.0//EN
CALSCALE:GREGORIAN
METHOD:PUBLISH
X-ORIGINAL-URL:https://www.yankeenavhda.org
X-WR-CALDESC:Events for Yankee Chapter of NAVHDA
REFRESH-INTERVAL;VALUE=DURATION:PT1H
X-Robots-Tag:noindex
X-PUBLISHED-TTL:PT1H
BEGIN:VTIMEZONE
TZID:America/New_York
BEGIN:DAYLIGHT
TZOFFSETFROM:-0500
TZOFFSETTO:-0400
TZNAME:EDT
DTSTART:20200308T070000
END:DAYLIGHT
BEGIN:STANDARD
TZOFFSETFROM:-0400
TZOFFSETTO:-0500
TZNAME:EST
DTSTART:20201101T060000
END:STANDARD
BEGIN:DAYLIGHT
TZOFFSETFROM:-0500
TZOFFSETTO:-0400
TZNAME:EDT
DTSTART:20210314T070000
END:DAYLIGHT
BEGIN:STANDARD
TZOFFSETFROM:-0400
TZOFFSETTO:-0500
TZNAME:EST
DTSTART:20211107T060000
END:STANDARD
BEGIN:DAYLIGHT
TZOFFSETFROM:-0500
TZOFFSETTO:-0400
TZNAME:EDT
DTSTART:20220313T070000
END:DAYLIGHT
BEGIN:STANDARD
TZOFFSETFROM:-0400
TZOFFSETTO:-0500
TZNAME:EST
DTSTART:20221106T060000
END:STANDARD
END:VTIMEZONE
BEGIN:VEVENT
DTSTART;TZID=America/New_York:20210605T090000
DTEND;TZID=America/New_York:20210605T170000
DTSTAMP:20260424T200356
CREATED:20201230T052243Z
LAST-MODIFIED:20210407T193704Z
UID:1216-1622883600-1622912400@www.yankeenavhda.org
SUMMARY:Yankee Chapter Pre-Test Clinic
DESCRIPTION:The clinic will start at 9 a.m. We’ll be doing field and water work for dogs and puppies of all levels. Please note\, testing dogs train first. Once the testing dogs have had their chance for field and water we will move on to all other handlers/dogs. The Pre-Test clinic in Dresden has always been one of our most popular clinics. While we do our best to estimate the number of birds needed\, sometimes the crowd exceeds our expectations. Be sure to get to the training grounds before 9:00 and sign up for your birds as soon as you arrive. \nDon’t forget to bring water\, stakes or crates\, something to provide shade\, and…most important…bug spray!\nIf your dog is in heat or may be coming into heat\, please tell the sign-up staff. We must ask you to run last to minimize distraction to the other dogs. Your understand- ing is hugely appreciated.\nPlease keep your dog on a leash!\nEven if your dog is mellow and under control\, someone else’s might not be. We do not want a confrontation or problem. Unless your dog is working in the field\, exercise area\, or water\, please make sure he or she is either on a leash\, chained to a stake or in a crate. That includes walking from your vehicle to the starting point for a field run. Please adhere to our leash policy not just at the fields but on your way to and from the water\, as well.\nNot your normal chapter!\nDirections\nTake I-295 to Exit 43. Go east on Route 197 through Richmond. Turn right onto Route 128. Go a mile or so then watch for signs and big green barn! (The field is just after Eastern River heading north and just before Eastern River heading south.)
URL:https://www.yankeenavhda.org/event/yankee-chapter-pre-test-clinic/
LOCATION:Green Point Wildlife Management Area\, Route 128 Dresden\, ME 04342\, Green Point Wildlife Management Area\, Dresden\, ME\, 04342\, United States
END:VEVENT
BEGIN:VEVENT
DTSTART;TZID=America/New_York:20210606T070000
DTEND;TZID=America/New_York:20210606T170000
DTSTAMP:20260424T200356
CREATED:20210430T213831Z
LAST-MODIFIED:20210430T213831Z
UID:1389-1622962800-1622998800@www.yankeenavhda.org
SUMMARY:Yankee Chapter Natural Ability Test
DESCRIPTION:This is our Spring Natural Ability and Utility Test. We welcome people to come watch and encourage testing handlers.\nAll dogs must remain on leash.
URL:https://www.yankeenavhda.org/event/yankee-chapter-natural-ability-test/
LOCATION:Green Point Wildlife Management Area\, Route 128 Dresden\, ME 04342\, Green Point Wildlife Management Area\, Dresden\, ME\, 04342\, United States
END:VEVENT
BEGIN:VEVENT
DTSTART;TZID=America/New_York:20210611T070000
DTEND;TZID=America/New_York:20210613T170000
DTSTAMP:20260424T200356
CREATED:20201230T052525Z
LAST-MODIFIED:20210219T190041Z
UID:1219-1623394800-1623603600@www.yankeenavhda.org
SUMMARY:Yankee Chapter Spring Test
DESCRIPTION:This is our Spring Natural Ability and Utility Test. We welcome people to come watch and encourage testing handlers.\nAll dogs must remain on leash.
URL:https://www.yankeenavhda.org/event/yankee-chapter-spring-test-2/
LOCATION:Green Point Wildlife Management Area\, Route 128 Dresden\, ME 04342\, Green Point Wildlife Management Area\, Dresden\, ME\, 04342\, United States
END:VEVENT
END:VCALENDAR