BEGIN:VCALENDAR
VERSION:2.0
PRODID:-//Yankee Chapter of NAVHDA - ECPv6.15.17.1//NONSGML v1.0//EN
CALSCALE:GREGORIAN
METHOD:PUBLISH
X-ORIGINAL-URL:https://www.yankeenavhda.org
X-WR-CALDESC:Events for Yankee Chapter of NAVHDA
REFRESH-INTERVAL;VALUE=DURATION:PT1H
X-Robots-Tag:noindex
X-PUBLISHED-TTL:PT1H
BEGIN:VTIMEZONE
TZID:America/New_York
BEGIN:DAYLIGHT
TZOFFSETFROM:-0500
TZOFFSETTO:-0400
TZNAME:EDT
DTSTART:20200308T070000
END:DAYLIGHT
BEGIN:STANDARD
TZOFFSETFROM:-0400
TZOFFSETTO:-0500
TZNAME:EST
DTSTART:20201101T060000
END:STANDARD
BEGIN:DAYLIGHT
TZOFFSETFROM:-0500
TZOFFSETTO:-0400
TZNAME:EDT
DTSTART:20210314T070000
END:DAYLIGHT
BEGIN:STANDARD
TZOFFSETFROM:-0400
TZOFFSETTO:-0500
TZNAME:EST
DTSTART:20211107T060000
END:STANDARD
BEGIN:DAYLIGHT
TZOFFSETFROM:-0500
TZOFFSETTO:-0400
TZNAME:EDT
DTSTART:20220313T070000
END:DAYLIGHT
BEGIN:STANDARD
TZOFFSETFROM:-0400
TZOFFSETTO:-0500
TZNAME:EST
DTSTART:20221106T060000
END:STANDARD
END:VTIMEZONE
BEGIN:VEVENT
DTSTART;TZID=America/New_York:20210711T090000
DTEND;TZID=America/New_York:20210711T170000
DTSTAMP:20260424T212452
CREATED:20201230T052930Z
LAST-MODIFIED:20210219T190015Z
UID:1222-1625994000-1626022800@www.yankeenavhda.org
SUMMARY:Yankee Chapter Water Clinic
DESCRIPTION:Join us at Sugarfoot Kennels in Burnham\, ME for our Water Clinic. Sugarfoot Kennels offers a vast array of water to support everyone’s water training needs. Bring your own lunch\, shade\, bug spray\, sun block and plenty of fresh water for you and your dog. This is also our Semi Annual Meeting.\nAs always\, please keep your dogs on leash. \nWelcome to all to the Yankee Chapter’s Wicked Awesome Water Clinic.\nCOVID-19 Clinic Guidelines-Please Read \nThank you to Sugarfoot Kennels for this beautiful training site. It is very important we all practice social distancing\, using PPE when closer than 6’. There will be 3 white buckets with soap and water for washing. Use them often! Sanitizer can also be found by the equipment trailer. Again\, use often. Yankee Chapter wants you to stay well. \nThis site offers endless opportunities for you to train your versatile hunting dog. Don’t let me see anyone standing around! Please offer to help others when you or your dog need a break. \nRegistration and parking: TBD
URL:https://www.yankeenavhda.org/event/yankee-chapter-water-clinic/
LOCATION:Sugarfoot Kennels – Burnham\, Me\, 444 Troy Road\, Burnham\, Maine\, 04922
END:VEVENT
END:VCALENDAR