BEGIN:VCALENDAR
VERSION:2.0
PRODID:-//Yankee Chapter of NAVHDA - ECPv6.15.17.1//NONSGML v1.0//EN
CALSCALE:GREGORIAN
METHOD:PUBLISH
X-ORIGINAL-URL:https://www.yankeenavhda.org
X-WR-CALDESC:Events for Yankee Chapter of NAVHDA
REFRESH-INTERVAL;VALUE=DURATION:PT1H
X-Robots-Tag:noindex
X-PUBLISHED-TTL:PT1H
BEGIN:VTIMEZONE
TZID:America/New_York
BEGIN:DAYLIGHT
TZOFFSETFROM:-0500
TZOFFSETTO:-0400
TZNAME:EDT
DTSTART:20200308T070000
END:DAYLIGHT
BEGIN:STANDARD
TZOFFSETFROM:-0400
TZOFFSETTO:-0500
TZNAME:EST
DTSTART:20201101T060000
END:STANDARD
BEGIN:DAYLIGHT
TZOFFSETFROM:-0500
TZOFFSETTO:-0400
TZNAME:EDT
DTSTART:20210314T070000
END:DAYLIGHT
BEGIN:STANDARD
TZOFFSETFROM:-0400
TZOFFSETTO:-0500
TZNAME:EST
DTSTART:20211107T060000
END:STANDARD
BEGIN:DAYLIGHT
TZOFFSETFROM:-0500
TZOFFSETTO:-0400
TZNAME:EDT
DTSTART:20220313T070000
END:DAYLIGHT
BEGIN:STANDARD
TZOFFSETFROM:-0400
TZOFFSETTO:-0500
TZNAME:EST
DTSTART:20221106T060000
END:STANDARD
END:VTIMEZONE
BEGIN:VEVENT
DTSTART;TZID=America/New_York:20210817T160000
DTEND;TZID=America/New_York:20210817T190000
DTSTAMP:20260424T162349
CREATED:20210804T044709Z
LAST-MODIFIED:20210804T044742Z
UID:1440-1629216000-1629226800@www.yankeenavhda.org
SUMMARY:Yankee Chapter Volunteer Celebration BBQ
DESCRIPTION:Hey YC Volunteers! This organization wouldn’t be what it is today without you! As a thank you for all that you do\, we welcome you to join us for a Yankee Chapter BBQ to recognize and celebrate your importance to our chapter. If you have stepped up and volunteered in any way this year\, please join us to kick back and have some fun. It’s going to be a  blast! \n\n\nYankee Volunteer Celebration BBQ \nTuesday\, August 17\n4:00 PM\n1774 Inn\n44 Parker Head Road\nPhippsburg\, Maine\n\n\nSincerely\, \nThe Yankee Chapter Board
URL:https://www.yankeenavhda.org/event/1440/
LOCATION:1774 Inn\, 44 Parker Head Road\, Phippsburg\, ME\, United States
END:VEVENT
BEGIN:VEVENT
DTSTART;TZID=America/New_York:20210828T090000
DTEND;TZID=America/New_York:20210828T170000
DTSTAMP:20260424T162349
CREATED:20201230T053221Z
LAST-MODIFIED:20210219T185947Z
UID:1224-1630141200-1630170000@www.yankeenavhda.org
SUMMARY:Yankee Chapter Pre-Test Clinic
DESCRIPTION:The clinic is open to all members testing or not\, starting at 9am. The only difference being those who are testing get priority in the running order. \nPlease remember to come prepared for warm temps giving yourself and your dog plenty of water and shade. \nDirections:\nFrom I-295 take exit 37 for ME-125/ME-138 toward Bowdoinham.\nTurn right onto ME-125/ME-138 N/Main Street.\nWhen Main Street intersects River Road\, turn left onto River Road.\nTurn right onto Browns Point Road.\nTake the first righ tonto Wildes Road.\nFollow the paved road past the houses to the end\, then follow the\ndirt road until you see the training fields.\nPLEASE DRIVE VERY SLOWLY DOWN WILDES ROAD \nThe residents on Wilde’s Rd have expressed concerns regarding the speed of folks entering the site. Please remember to keep your speed under .
URL:https://www.yankeenavhda.org/event/yankee-chapter-pre-test-clinic-2/
LOCATION:Bowdoinham Wildlife Management Area\, Wildes Road\, Bowdoinham\, Maine\, 04008
END:VEVENT
BEGIN:VEVENT
DTSTART;TZID=America/New_York:20210829T070000
DTEND;TZID=America/New_York:20210829T070000
DTSTAMP:20260424T162349
CREATED:20210716T232403Z
LAST-MODIFIED:20210716T232403Z
UID:1433-1630220400-1630220400@www.yankeenavhda.org
SUMMARY:Yankee Chapter Fall Test
DESCRIPTION:We welcome people to come watch and encourage testing handlers.\nAll dogs must remain on leash.
URL:https://www.yankeenavhda.org/event/yankee-chapter-fall-test-5/
LOCATION:Bowdoinham Wildlife Management Area\, Wildes Road\, Bowdoinham\, Maine\, 04008
END:VEVENT
END:VCALENDAR