BEGIN:VCALENDAR
VERSION:2.0
PRODID:-//Yankee Chapter of NAVHDA - ECPv6.15.17.1//NONSGML v1.0//EN
CALSCALE:GREGORIAN
METHOD:PUBLISH
X-ORIGINAL-URL:https://www.yankeenavhda.org
X-WR-CALDESC:Events for Yankee Chapter of NAVHDA
REFRESH-INTERVAL;VALUE=DURATION:PT1H
X-Robots-Tag:noindex
X-PUBLISHED-TTL:PT1H
BEGIN:VTIMEZONE
TZID:America/New_York
BEGIN:DAYLIGHT
TZOFFSETFROM:-0500
TZOFFSETTO:-0400
TZNAME:EDT
DTSTART:20200308T070000
END:DAYLIGHT
BEGIN:STANDARD
TZOFFSETFROM:-0400
TZOFFSETTO:-0500
TZNAME:EST
DTSTART:20201101T060000
END:STANDARD
BEGIN:DAYLIGHT
TZOFFSETFROM:-0500
TZOFFSETTO:-0400
TZNAME:EDT
DTSTART:20210314T070000
END:DAYLIGHT
BEGIN:STANDARD
TZOFFSETFROM:-0400
TZOFFSETTO:-0500
TZNAME:EST
DTSTART:20211107T060000
END:STANDARD
BEGIN:DAYLIGHT
TZOFFSETFROM:-0500
TZOFFSETTO:-0400
TZNAME:EDT
DTSTART:20220313T070000
END:DAYLIGHT
BEGIN:STANDARD
TZOFFSETFROM:-0400
TZOFFSETTO:-0500
TZNAME:EST
DTSTART:20221106T060000
END:STANDARD
END:VTIMEZONE
BEGIN:VEVENT
DTSTART;TZID=America/New_York:20210903T070000
DTEND;TZID=America/New_York:20210905T170000
DTSTAMP:20260424T135301
CREATED:20201230T053427Z
LAST-MODIFIED:20210330T033741Z
UID:1226-1630652400-1630861200@www.yankeenavhda.org
SUMMARY:Yankee Chapter Fall Test
DESCRIPTION:We welcome people to come watch and encourage testing handlers.\nAll dogs must remain on leash.
URL:https://www.yankeenavhda.org/event/yankee-chapter-fall-test-4/
LOCATION:Bowdoinham Wildlife Management Area\, Wildes Road\, Bowdoinham\, Maine\, 04008
END:VEVENT
BEGIN:VEVENT
DTSTART;TZID=America/New_York:20210912T080000
DTEND;TZID=America/New_York:20210918T170000
DTSTAMP:20260424T135301
CREATED:20210119T151215Z
LAST-MODIFIED:20210330T033712Z
UID:1337-1631433600-1631984400@www.yankeenavhda.org
SUMMARY:NAVHDA Invitational - Searsboro\, Iowa
DESCRIPTION:Invitational Information\nThe Invitational is NAVHDA’s premier hunt test\, and is held annually in September. The Invitational is the ultimate test of both dog and trainer. In this test\, dogs are required to: 1) run an hour field brace with another dog\, point and retrieve upland birds\, and honor its bracemate’s point and retrieve\, 2) do a blind retrieve over water of approximately 100 yards\, 3) honor another dog’s waterfowl retrieve\, and 4) do a double marked retrieve.  You can find more details on the Invitational on our About the NAVHDA Testing System and Invitational FAQ pages.  Please Click Here to view our many NAVHDA Invitational sponsors\, without whom the Invitational would not be possible. \n\n\n  \n\n\n\n\n\n\n\n\nThe 2021 Invitational will be held September 12-18 in Searsboro\, Iowa.\nAll owners of eligible dogs received invitations and entry forms via email on 12/18/2020. If you believe your dog is eligible and have not received the invitational email please contact Maria Bondi in the Central Office at mbondi@navhda.org.
URL:https://www.yankeenavhda.org/event/navhda-invitational-searsboro-iowa/
LOCATION:ME
END:VEVENT
END:VCALENDAR