BEGIN:VCALENDAR
VERSION:2.0
PRODID:-//Yankee Chapter of NAVHDA - ECPv6.15.17.1//NONSGML v1.0//EN
CALSCALE:GREGORIAN
METHOD:PUBLISH
X-ORIGINAL-URL:https://www.yankeenavhda.org
X-WR-CALDESC:Events for Yankee Chapter of NAVHDA
REFRESH-INTERVAL;VALUE=DURATION:PT1H
X-Robots-Tag:noindex
X-PUBLISHED-TTL:PT1H
BEGIN:VTIMEZONE
TZID:America/New_York
BEGIN:DAYLIGHT
TZOFFSETFROM:-0500
TZOFFSETTO:-0400
TZNAME:EDT
DTSTART:20210314T070000
END:DAYLIGHT
BEGIN:STANDARD
TZOFFSETFROM:-0400
TZOFFSETTO:-0500
TZNAME:EST
DTSTART:20211107T060000
END:STANDARD
BEGIN:DAYLIGHT
TZOFFSETFROM:-0500
TZOFFSETTO:-0400
TZNAME:EDT
DTSTART:20220313T070000
END:DAYLIGHT
BEGIN:STANDARD
TZOFFSETFROM:-0400
TZOFFSETTO:-0500
TZNAME:EST
DTSTART:20221106T060000
END:STANDARD
BEGIN:DAYLIGHT
TZOFFSETFROM:-0500
TZOFFSETTO:-0400
TZNAME:EDT
DTSTART:20230312T070000
END:DAYLIGHT
BEGIN:STANDARD
TZOFFSETFROM:-0400
TZOFFSETTO:-0500
TZNAME:EST
DTSTART:20231105T060000
END:STANDARD
END:VTIMEZONE
BEGIN:VEVENT
DTSTART;TZID=America/New_York:20220219T090000
DTEND;TZID=America/New_York:20220219T143000
DTSTAMP:20260419T190214
CREATED:20220116T012030Z
LAST-MODIFIED:20220206T180244Z
UID:1593-1645261200-1645281000@www.yankeenavhda.org
SUMMARY:Yankee Chapter - Indoor Clinic - Phippsburg
DESCRIPTION:Don’t wait for springtime to start your 2022 training! Shake off that cabin fever and join the Yankee Chapter for a day of indoor training and socialization. We will be working with dogs of all ages and abilities. Skills covered will be retrieving\, recalls\, heeling\, come\, whoa\, and obedience. Bring your own lunch or stop by one of the fast food restaurants nearby.\nThe cost is $10.
URL:https://www.yankeenavhda.org/event/yankee-chapter-indoor-clinic-phippsburg/
LOCATION:4 Mill Rd Phippsburg\, ME\, 4 Mill Rd\, Phippsburg\, ME\, 04562\, United States
END:VEVENT
END:VCALENDAR