BEGIN:VCALENDAR
VERSION:2.0
PRODID:-//Yankee Chapter of NAVHDA - ECPv6.15.17.1//NONSGML v1.0//EN
CALSCALE:GREGORIAN
METHOD:PUBLISH
X-WR-CALNAME:Yankee Chapter of NAVHDA
X-ORIGINAL-URL:https://www.yankeenavhda.org
X-WR-CALDESC:Events for Yankee Chapter of NAVHDA
REFRESH-INTERVAL;VALUE=DURATION:PT1H
X-Robots-Tag:noindex
X-PUBLISHED-TTL:PT1H
BEGIN:VTIMEZONE
TZID:America/New_York
BEGIN:DAYLIGHT
TZOFFSETFROM:-0500
TZOFFSETTO:-0400
TZNAME:EDT
DTSTART:20210314T070000
END:DAYLIGHT
BEGIN:STANDARD
TZOFFSETFROM:-0400
TZOFFSETTO:-0500
TZNAME:EST
DTSTART:20211107T060000
END:STANDARD
BEGIN:DAYLIGHT
TZOFFSETFROM:-0500
TZOFFSETTO:-0400
TZNAME:EDT
DTSTART:20220313T070000
END:DAYLIGHT
BEGIN:STANDARD
TZOFFSETFROM:-0400
TZOFFSETTO:-0500
TZNAME:EST
DTSTART:20221106T060000
END:STANDARD
BEGIN:DAYLIGHT
TZOFFSETFROM:-0500
TZOFFSETTO:-0400
TZNAME:EDT
DTSTART:20230312T070000
END:DAYLIGHT
BEGIN:STANDARD
TZOFFSETFROM:-0400
TZOFFSETTO:-0500
TZNAME:EST
DTSTART:20231105T060000
END:STANDARD
END:VTIMEZONE
BEGIN:VEVENT
DTSTART;TZID=America/New_York:20220514T090000
DTEND;TZID=America/New_York:20220514T170000
DTSTAMP:20260419T120420
CREATED:20220102T174217Z
LAST-MODIFIED:20220223T043042Z
UID:1575-1652518800-1652547600@www.yankeenavhda.org
SUMMARY:Vermont Training Clinic - must RSVP via Email - Space is Limited
DESCRIPTION:RSVP anisfield@gmavt.net to hold your spot.\nSponsored by Ugly Dog Hunting. Space limited to 25 dogs.\nAll levels (NA/UT/INV) are welcome. Field and basic water but no big water. No charge for clinic\, pay only for birds. 2 birds per dog. One dog per handler.\nMust be a NAVHDA Intl. member to attend.
URL:https://www.yankeenavhda.org/event/vermont-training-clinic-2/
LOCATION:Ugly Dog Hunting\, 1067 Silver St\, Hinesburg\, VT\, 05461\, United States
END:VEVENT
BEGIN:VEVENT
DTSTART;TZID=America/New_York:20220521T090000
DTEND;TZID=America/New_York:20220521T170000
DTSTAMP:20260419T120420
CREATED:20220102T174313Z
LAST-MODIFIED:20220102T174622Z
UID:1577-1653123600-1653152400@www.yankeenavhda.org
SUMMARY:Yankee Chapter Spring Clinic #2
DESCRIPTION:
URL:https://www.yankeenavhda.org/event/yankee-chapter-spring-clinic-2-2/
LOCATION:Green Point Wildlife Management Area\, Route 128 Dresden\, ME 04342\, Green Point Wildlife Management Area\, Dresden\, ME\, 04342\, United States
END:VEVENT
END:VCALENDAR